BEGIN:VCALENDAR
VERSION:2.0
PRODID:icalendar-ruby
CALSCALE:GREGORIAN
METHOD:PUBLISH
BEGIN:VEVENT
DTSTAMP:20260419T125821Z
UID:220-496@ibcgreenwood.org
DTSTART:20260429T223000Z
DTEND:20260429T230000Z
CLASS:PUBLIC
CREATED:20260404T170032
DESCRIPTION:
LAST-MODIFIED:20260404T170032
LOCATION:916 Medallion Dr Greenwood\, MS 38930
SUMMARY:Meal by WMU
URL;VALUE=URI:https://www.ibcgreenwood.org/events/meal-by-wmu--220/2026-04-
 29
END:VEVENT
END:VCALENDAR
