BEGIN:VCALENDAR
VERSION:2.0
PRODID:icalendar-ruby
CALSCALE:GREGORIAN
METHOD:PUBLISH
BEGIN:VEVENT
DTSTAMP:20260419T142349Z
UID:221-497@ibcgreenwood.org
DTSTART;VALUE=DATE:20260503
DTEND;VALUE=DATE:20260504
CLASS:PUBLIC
CREATED:20260404T170108
DESCRIPTION:
LAST-MODIFIED:20260404T170108
LOCATION:916 Medallion DrGreenwood\, MS 38930
SUMMARY:Senior Recognition Day
URL;VALUE=URI:https://www.ibcgreenwood.org/events/senior-recognition-day/20
 26-05-03
END:VEVENT
END:VCALENDAR
